Package: TFEA.ChIP Version: 1.31.0 Command: /Library/Frameworks/R.framework/Resources/bin/R CMD INSTALL TFEA.ChIP StartedAt: 2025-11-13 15:22:17 -0500 (Thu, 13 Nov 2025) EndedAt: 2025-11-13 15:22:46 -0500 (Thu, 13 Nov 2025) EllapsedTime: 28.5 seconds RetCode: 0 Status: OK