Package: TFEA.ChIP Version: 1.31.0 Command: /Library/Frameworks/R.framework/Resources/bin/R CMD build --keep-empty-dirs --no-resave-data TFEA.ChIP StartedAt: 2025-11-13 17:57:54 -0500 (Thu, 13 Nov 2025) EndedAt: 2025-11-13 17:58:43 -0500 (Thu, 13 Nov 2025) EllapsedTime: 49.6 seconds RetCode: 0 Status: OK PackageFile: TFEA.ChIP_1.31.0.tar.gz PackageFileSize: 6.772 MiB