Package: TFEA.ChIP Version: 1.31.0 Command: rm -rf TFEA.ChIP.buildbin-libdir && mkdir TFEA.ChIP.buildbin-libdir && /Users/biocbuild/BBS/utils/build-universal.sh TFEA.ChIP_1.31.0.tar.gz /Library/Frameworks/R.framework/Resources/bin/R TFEA.ChIP.buildbin-libdir StartedAt: 2025-11-13 23:59:37 -0500 (Thu, 13 Nov 2025) EndedAt: 2025-11-14 00:00:10 -0500 (Fri, 14 Nov 2025) EllapsedTime: 33.8 seconds RetCode: 0 Status: OK PackageFile: TFEA.ChIP_1.31.0.tgz PackageFileSize: 6.26 MiB