Package: TFBSTools Version: 1.49.0 Command: /home/biocbuild/bbs-3.23-bioc/R/bin/R CMD INSTALL TFBSTools StartedAt: 2025-11-13 15:50:36 -0500 (Thu, 13 Nov 2025) EndedAt: 2025-11-13 15:51:21 -0500 (Thu, 13 Nov 2025) EllapsedTime: 45.0 seconds RetCode: 0 Status: OK