Package: TFBSTools Version: 1.49.0 Command: /Library/Frameworks/R.framework/Resources/bin/R CMD INSTALL TFBSTools StartedAt: 2025-11-12 15:37:47 -0500 (Wed, 12 Nov 2025) EndedAt: 2025-11-12 15:38:05 -0500 (Wed, 12 Nov 2025) EllapsedTime: 17.6 seconds RetCode: 0 Status: OK