Package: TFBSTools Version: 1.49.0 Command: /Library/Frameworks/R.framework/Resources/bin/R CMD build --keep-empty-dirs --no-resave-data TFBSTools StartedAt: 2025-11-12 17:22:17 -0500 (Wed, 12 Nov 2025) EndedAt: 2025-11-12 17:22:49 -0500 (Wed, 12 Nov 2025) EllapsedTime: 31.3 seconds RetCode: 0 Status: OK PackageFile: TFBSTools_1.49.0.tar.gz PackageFileSize: 1.043 MiB