Package: TFBSTools Version: 1.49.0 Command: rm -rf TFBSTools.buildbin-libdir && mkdir TFBSTools.buildbin-libdir && /Users/biocbuild/BBS/utils/build-universal.sh TFBSTools_1.49.0.tar.gz /Library/Frameworks/R.framework/Resources/bin/R TFBSTools.buildbin-libdir StartedAt: 2025-11-13 23:59:37 -0500 (Thu, 13 Nov 2025) EndedAt: 2025-11-13 23:59:59 -0500 (Thu, 13 Nov 2025) EllapsedTime: 22.5 seconds RetCode: 0 Status: OK PackageFile: TFBSTools_1.49.0.tgz PackageFileSize: 2.054 MiB