Package: TFARM Version: 1.33.0 Command: /home/biocbuild/bbs-3.23-bioc/R/bin/R CMD INSTALL TFARM StartedAt: 2025-11-14 15:24:58 -0500 (Fri, 14 Nov 2025) EndedAt: 2025-11-14 15:25:12 -0500 (Fri, 14 Nov 2025) EllapsedTime: 14.2 seconds RetCode: 0 Status: OK