Package: TFARM Version: 1.33.0 Command: /home/biocbuild/bbs-3.23-bioc/R/bin/R CMD build --keep-empty-dirs --no-resave-data TFARM StartedAt: 2025-11-14 20:29:14 -0500 (Fri, 14 Nov 2025) EndedAt: 2025-11-14 20:30:55 -0500 (Fri, 14 Nov 2025) EllapsedTime: 101.1 seconds RetCode: 0 Status: OK PackageFile: TFARM_1.33.0.tar.gz PackageFileSize: 470.9 KiB