Package: TFARM Version: 1.33.0 Maintainer: Liuba Nausicaa Martino MaintainerEmail: liuban.martino at gmail.com git_url: https://git.bioconductor.org/packages/TFARM git_branch: devel git_last_commit: cbabd4a git_last_commit_date: 2025-10-29 10:40:41 -0500 (Wed, 29 Oct 2025)