Package: TENxIO Version: 1.13.0 Command: /home/biocbuild/bbs-3.23-bioc/R/bin/R CMD INSTALL TENxIO StartedAt: 2025-11-14 15:36:26 -0500 (Fri, 14 Nov 2025) EndedAt: 2025-11-14 15:36:52 -0500 (Fri, 14 Nov 2025) EllapsedTime: 26.0 seconds RetCode: 0 Status: OK