Package: TENxIO Version: 1.13.0 Command: /home/biocbuild/bbs-3.23-bioc/R/bin/R CMD build --keep-empty-dirs --no-resave-data TENxIO StartedAt: 2025-11-14 20:28:18 -0500 (Fri, 14 Nov 2025) EndedAt: 2025-11-14 20:29:00 -0500 (Fri, 14 Nov 2025) EllapsedTime: 42.0 seconds RetCode: 0 Status: OK PackageFile: TENxIO_1.13.0.tar.gz PackageFileSize: 256.5 KiB