Package: TENxIO Version: 1.13.0 Command: /Library/Frameworks/R.framework/Resources/bin/R CMD INSTALL TENxIO StartedAt: 2025-11-13 15:12:50 -0500 (Thu, 13 Nov 2025) EndedAt: 2025-11-13 15:13:01 -0500 (Thu, 13 Nov 2025) EllapsedTime: 10.3 seconds RetCode: 0 Status: OK