Package: TDbasedUFEadv Version: 1.11.0 Command: /home/biocbuild/bbs-3.23-bioc/R/bin/R CMD INSTALL TDbasedUFEadv StartedAt: 2025-11-14 15:50:04 -0500 (Fri, 14 Nov 2025) EndedAt: 2025-11-14 15:50:30 -0500 (Fri, 14 Nov 2025) EllapsedTime: 26.3 seconds RetCode: 0 Status: OK