Package: TDbasedUFEadv Version: 1.11.0 Command: /home/biocbuild/bbs-3.23-bioc/R/bin/R CMD build --keep-empty-dirs --no-resave-data TDbasedUFEadv StartedAt: 2025-11-14 20:27:59 -0500 (Fri, 14 Nov 2025) EndedAt: 2025-11-14 20:31:15 -0500 (Fri, 14 Nov 2025) EllapsedTime: 196.4 seconds RetCode: 0 Status: OK PackageFile: TDbasedUFEadv_1.11.0.tar.gz PackageFileSize: 3.779 MiB