Package: TDbasedUFEadv Version: 1.11.0 Command: /Library/Frameworks/R.framework/Resources/bin/R CMD build --keep-empty-dirs --no-resave-data TDbasedUFEadv StartedAt: 2025-11-13 17:56:53 -0500 (Thu, 13 Nov 2025) EndedAt: 2025-11-13 17:58:35 -0500 (Thu, 13 Nov 2025) EllapsedTime: 102.1 seconds RetCode: 0 Status: OK PackageFile: TDbasedUFEadv_1.11.0.tar.gz PackageFileSize: 4.023 MiB