Package: TDbasedUFEadv Version: 1.11.0 Maintainer: Y-h. Taguchi MaintainerEmail: tag at granular.com git_url: https://git.bioconductor.org/packages/TDbasedUFEadv git_branch: devel git_last_commit: 63e0976 git_last_commit_date: 2025-10-29 11:22:02 -0500 (Wed, 29 Oct 2025)