Package: TDbasedUFE Version: 1.11.0 Command: /home/biocbuild/bbs-3.23-bioc/R/bin/R CMD INSTALL TDbasedUFE StartedAt: 2025-11-11 15:20:13 -0500 (Tue, 11 Nov 2025) EndedAt: 2025-11-11 15:20:24 -0500 (Tue, 11 Nov 2025) EllapsedTime: 10.4 seconds RetCode: 0 Status: OK