Package: TDbasedUFE Version: 1.11.0 Command: /home/biocbuild/bbs-3.23-bioc/R/bin/R CMD build --keep-empty-dirs --no-resave-data TDbasedUFE StartedAt: 2025-11-11 20:32:53 -0500 (Tue, 11 Nov 2025) EndedAt: 2025-11-11 20:33:22 -0500 (Tue, 11 Nov 2025) EllapsedTime: 29.4 seconds RetCode: 0 Status: OK PackageFile: TDbasedUFE_1.11.0.tar.gz PackageFileSize: 1.286 MiB