Package: TDbasedUFE Version: 1.11.0 Command: /Library/Frameworks/R.framework/Resources/bin/R CMD INSTALL TDbasedUFE StartedAt: 2025-11-13 15:10:39 -0500 (Thu, 13 Nov 2025) EndedAt: 2025-11-13 15:10:43 -0500 (Thu, 13 Nov 2025) EllapsedTime: 3.9 seconds RetCode: 0 Status: OK