Package: TDbasedUFE Version: 1.11.0 Command: /Library/Frameworks/R.framework/Resources/bin/R CMD build --keep-empty-dirs --no-resave-data TDbasedUFE StartedAt: 2025-11-12 17:21:41 -0500 (Wed, 12 Nov 2025) EndedAt: 2025-11-12 17:21:54 -0500 (Wed, 12 Nov 2025) EllapsedTime: 13.2 seconds RetCode: 0 Status: OK PackageFile: TDbasedUFE_1.11.0.tar.gz PackageFileSize: 1.349 MiB