Package: TDbasedUFE Version: 1.11.0 Command: rm -rf TDbasedUFE.buildbin-libdir && mkdir TDbasedUFE.buildbin-libdir && /Users/biocbuild/BBS/utils/build-universal.sh TDbasedUFE_1.11.0.tar.gz /Library/Frameworks/R.framework/Resources/bin/R TDbasedUFE.buildbin-libdir StartedAt: 2025-11-12 21:12:30 -0500 (Wed, 12 Nov 2025) EndedAt: 2025-11-12 21:12:36 -0500 (Wed, 12 Nov 2025) EllapsedTime: 6.3 seconds RetCode: 0 Status: OK PackageFile: TDbasedUFE_1.11.0.tgz PackageFileSize: 1.199 MiB