Package: TDbasedUFE Version: 1.11.0 Maintainer: Y-h. Taguchi MaintainerEmail: tag at granular.com git_url: https://git.bioconductor.org/packages/TDbasedUFE git_branch: devel git_last_commit: 00400bb git_last_commit_date: 2025-10-29 11:20:36 -0500 (Wed, 29 Oct 2025)