Package: TCseq Version: 1.35.0 Command: /Library/Frameworks/R.framework/Resources/bin/R CMD INSTALL TCseq StartedAt: 2025-11-12 15:35:49 -0500 (Wed, 12 Nov 2025) EndedAt: 2025-11-12 15:35:49 -0500 (Wed, 12 Nov 2025) EllapsedTime: 0.5 seconds RetCode: 1 Status: ERROR