Package: TCseq Version: 1.35.0 Maintainer: Mengjun Wu MaintainerEmail: minervajunjun at gmail.com git_url: https://git.bioconductor.org/packages/TCseq git_branch: devel git_last_commit: 049f241 git_last_commit_date: 2025-10-29 10:36:13 -0500 (Wed, 29 Oct 2025)