Package: TCGAutils Version: 1.31.3 Command: /home/biocbuild/bbs-3.23-bioc/R/bin/R CMD INSTALL TCGAutils StartedAt: 2025-11-14 15:44:08 -0500 (Fri, 14 Nov 2025) EndedAt: 2025-11-14 15:44:47 -0500 (Fri, 14 Nov 2025) EllapsedTime: 38.9 seconds RetCode: 0 Status: OK