Package: TCGAutils Version: 1.31.3 Command: /home/biocbuild/bbs-3.23-bioc/R/bin/R CMD check --install=check:TCGAutils.install-out.txt --library=/home/biocbuild/bbs-3.23-bioc/R/site-library --timings TCGAutils_1.31.3.tar.gz StartedAt: 2025-11-15 04:49:53 -0500 (Sat, 15 Nov 2025) EndedAt: 2025-11-15 04:58:57 -0500 (Sat, 15 Nov 2025) EllapsedTime: 543.6 seconds RetCode: 0 Status: OK CheckDir: TCGAutils.Rcheck Warnings: 0