Package: TCGAutils Version: 1.31.3 Command: /Library/Frameworks/R.framework/Resources/bin/R CMD INSTALL TCGAutils StartedAt: 2025-11-13 15:23:37 -0500 (Thu, 13 Nov 2025) EndedAt: 2025-11-13 15:23:53 -0500 (Thu, 13 Nov 2025) EllapsedTime: 16.2 seconds RetCode: 0 Status: OK