Package: TCGAutils Version: 1.31.3 Command: /Library/Frameworks/R.framework/Resources/bin/R CMD build --keep-empty-dirs --no-resave-data TCGAutils StartedAt: 2025-11-13 17:56:50 -0500 (Thu, 13 Nov 2025) EndedAt: 2025-11-13 17:58:14 -0500 (Thu, 13 Nov 2025) EllapsedTime: 83.9 seconds RetCode: 0 Status: OK PackageFile: TCGAutils_1.31.3.tar.gz PackageFileSize: 399.5 KiB