Package: TCGAutils Version: 1.31.3 Maintainer: Marcel Ramos MaintainerEmail: marcel.ramos at sph.cuny.edu git_url: https://git.bioconductor.org/packages/TCGAutils git_branch: devel git_last_commit: c19b260 git_last_commit_date: 2025-11-11 17:30:56 -0500 (Tue, 11 Nov 2025)