Package: TCGAbiolinks Version: 2.39.0 Command: /home/biocbuild/bbs-3.23-bioc/R/bin/R CMD INSTALL TCGAbiolinks StartedAt: 2025-11-11 15:30:01 -0500 (Tue, 11 Nov 2025) EndedAt: 2025-11-11 15:30:44 -0500 (Tue, 11 Nov 2025) EllapsedTime: 43.3 seconds RetCode: 0 Status: OK