Package: TCGAbiolinks Version: 2.39.0 Command: /home/biocbuild/bbs-3.23-bioc/R/bin/R CMD build --keep-empty-dirs --no-resave-data TCGAbiolinks StartedAt: 2025-11-11 20:32:47 -0500 (Tue, 11 Nov 2025) EndedAt: 2025-11-11 20:38:18 -0500 (Tue, 11 Nov 2025) EllapsedTime: 330.8 seconds RetCode: 0 Status: OK PackageFile: TCGAbiolinks_2.39.0.tar.gz PackageFileSize: 63.76 MiB