Package: TCGAbiolinks Version: 2.39.0 Command: /Library/Frameworks/R.framework/Resources/bin/R CMD build --keep-empty-dirs --no-resave-data TCGAbiolinks StartedAt: 2025-11-13 17:56:49 -0500 (Thu, 13 Nov 2025) EndedAt: 2025-11-13 18:00:43 -0500 (Thu, 13 Nov 2025) EllapsedTime: 233.7 seconds RetCode: 0 Status: OK PackageFile: TCGAbiolinks_2.39.0.tar.gz PackageFileSize: 69.33 MiB