Package: TCGAbiolinks Version: 2.39.0 Command: rm -rf TCGAbiolinks.buildbin-libdir && mkdir TCGAbiolinks.buildbin-libdir && /Users/biocbuild/BBS/utils/build-universal.sh TCGAbiolinks_2.39.0.tar.gz /Library/Frameworks/R.framework/Resources/bin/R TCGAbiolinks.buildbin-libdir StartedAt: 2025-11-13 23:59:24 -0500 (Thu, 13 Nov 2025) EndedAt: 2025-11-13 23:59:53 -0500 (Thu, 13 Nov 2025) EllapsedTime: 28.7 seconds RetCode: 0 Status: OK PackageFile: TCGAbiolinks_2.39.0.tgz PackageFileSize: 68.01 MiB