Package: TCGAbiolinks Version: 2.39.0 Maintainer: Tiago Chedraoui Silva MaintainerEmail: tiagochst at gmail.com git_url: https://git.bioconductor.org/packages/TCGAbiolinks git_branch: devel git_last_commit: 2072af1 git_last_commit_date: 2025-10-29 10:27:16 -0500 (Wed, 29 Oct 2025)