Package: TCC Version: 1.51.0 Command: /home/biocbuild/bbs-3.23-bioc/R/bin/R CMD INSTALL TCC StartedAt: 2025-11-13 15:21:44 -0500 (Thu, 13 Nov 2025) EndedAt: 2025-11-13 15:22:14 -0500 (Thu, 13 Nov 2025) EllapsedTime: 30.1 seconds RetCode: 0 Status: OK