Package: TCC Version: 1.51.0 Command: /home/biocbuild/bbs-3.23-bioc/R/bin/R CMD build --keep-empty-dirs --no-resave-data TCC StartedAt: 2025-11-13 20:27:37 -0500 (Thu, 13 Nov 2025) EndedAt: 2025-11-13 20:29:17 -0500 (Thu, 13 Nov 2025) EllapsedTime: 99.5 seconds RetCode: 0 Status: OK PackageFile: TCC_1.51.0.tar.gz PackageFileSize: 3.184 MiB