Package: TCC Version: 1.51.0 Command: /Library/Frameworks/R.framework/Resources/bin/R CMD INSTALL TCC StartedAt: 2025-11-12 15:26:05 -0500 (Wed, 12 Nov 2025) EndedAt: 2025-11-12 15:26:06 -0500 (Wed, 12 Nov 2025) EllapsedTime: 1.0 seconds RetCode: 1 Status: ERROR