Package: TCC Version: 1.51.0 Maintainer: Jianqiang Sun MaintainerEmail: sun at bitdessin.dev git_url: https://git.bioconductor.org/packages/TCC git_branch: devel git_last_commit: 0eb2b06 git_last_commit_date: 2025-10-29 10:16:10 -0500 (Wed, 29 Oct 2025)