Package: TBSignatureProfiler Version: 1.23.0 Command: /home/biocbuild/bbs-3.23-bioc/R/bin/R CMD build --keep-empty-dirs --no-resave-data TBSignatureProfiler StartedAt: 2025-11-14 20:27:44 -0500 (Fri, 14 Nov 2025) EndedAt: 2025-11-14 20:27:59 -0500 (Fri, 14 Nov 2025) EllapsedTime: 15.1 seconds RetCode: 0 Status: OK PackageFile: TBSignatureProfiler_1.23.0.tar.gz PackageFileSize: 2.895 MiB