Package: TBSignatureProfiler Version: 1.23.0 Command: /Library/Frameworks/R.framework/Resources/bin/R CMD INSTALL TBSignatureProfiler StartedAt: 2025-11-14 15:30:22 -0500 (Fri, 14 Nov 2025) EndedAt: 2025-11-14 15:30:24 -0500 (Fri, 14 Nov 2025) EllapsedTime: 2.1 seconds RetCode: 0 Status: OK