Package: TBSignatureProfiler Version: 1.23.0 Command: /Library/Frameworks/R.framework/Resources/bin/R CMD build --keep-empty-dirs --no-resave-data TBSignatureProfiler StartedAt: 2025-11-13 17:56:44 -0500 (Thu, 13 Nov 2025) EndedAt: 2025-11-13 17:56:52 -0500 (Thu, 13 Nov 2025) EllapsedTime: 8.1 seconds RetCode: 0 Status: OK PackageFile: TBSignatureProfiler_1.23.0.tar.gz PackageFileSize: 2.895 MiB