Package: TAPseq Version: 1.23.0 Command: rm -rf TAPseq.buildbin-libdir && mkdir TAPseq.buildbin-libdir && /Users/biocbuild/BBS/utils/build-universal.sh TAPseq_1.23.0.tar.gz /Library/Frameworks/R.framework/Resources/bin/R TAPseq.buildbin-libdir StartedAt: 2025-11-13 23:59:18 -0500 (Thu, 13 Nov 2025) EndedAt: 2025-11-13 23:59:38 -0500 (Thu, 13 Nov 2025) EllapsedTime: 19.6 seconds RetCode: 0 Status: OK PackageFile: TAPseq_1.23.0.tgz PackageFileSize: 2.962 MiB