Package: TAPseq Version: 1.23.0 Maintainer: Andreas R. Gschwind MaintainerEmail: andreas.gschwind at stanford.edu git_url: https://git.bioconductor.org/packages/TAPseq git_branch: devel git_last_commit: 8fcac6c git_last_commit_date: 2025-10-29 10:57:19 -0500 (Wed, 29 Oct 2025)