Package: TADCompare Version: 1.21.0 Command: /home/biocbuild/bbs-3.23-bioc/R/bin/R CMD build --keep-empty-dirs --no-resave-data TADCompare StartedAt: 2025-11-14 20:26:44 -0500 (Fri, 14 Nov 2025) EndedAt: 2025-11-14 20:27:52 -0500 (Fri, 14 Nov 2025) EllapsedTime: 68.1 seconds RetCode: 0 Status: OK PackageFile: TADCompare_1.21.0.tar.gz PackageFileSize: 4.154 MiB