Package: TADCompare Version: 1.21.0 Command: /Library/Frameworks/R.framework/Resources/bin/R CMD build --keep-empty-dirs --no-resave-data TADCompare StartedAt: 2025-11-14 17:53:16 -0500 (Fri, 14 Nov 2025) EndedAt: 2025-11-14 17:53:53 -0500 (Fri, 14 Nov 2025) EllapsedTime: 36.4 seconds RetCode: 0 Status: OK PackageFile: TADCompare_1.21.0.tar.gz PackageFileSize: 4.202 MiB