Package: TADCompare Version: 1.21.0 Maintainer: Mikhail Dozmorov MaintainerEmail: mikhail.dozmorov at gmail.com git_url: https://git.bioconductor.org/packages/TADCompare git_branch: devel git_last_commit: 44ca011 git_last_commit_date: 2025-10-29 10:59:42 -0500 (Wed, 29 Oct 2025)