Package: SynMut Version: 1.27.0 Command: /home/biocbuild/bbs-3.23-bioc/R/bin/R CMD INSTALL SynMut StartedAt: 2025-11-14 15:17:31 -0500 (Fri, 14 Nov 2025) EndedAt: 2025-11-14 15:17:42 -0500 (Fri, 14 Nov 2025) EllapsedTime: 10.8 seconds RetCode: 0 Status: OK