Package: SynMut Version: 1.27.0 Command: /home/biocbuild/bbs-3.23-bioc/R/bin/R CMD build --keep-empty-dirs --no-resave-data SynMut StartedAt: 2025-11-14 20:26:09 -0500 (Fri, 14 Nov 2025) EndedAt: 2025-11-14 20:26:26 -0500 (Fri, 14 Nov 2025) EllapsedTime: 17.0 seconds RetCode: 0 Status: OK PackageFile: SynMut_1.27.0.tar.gz PackageFileSize: 104.7 KiB