Package: SynMut Version: 1.27.0 Command: /Library/Frameworks/R.framework/Resources/bin/R CMD INSTALL SynMut StartedAt: 2025-11-12 15:24:09 -0500 (Wed, 12 Nov 2025) EndedAt: 2025-11-12 15:24:14 -0500 (Wed, 12 Nov 2025) EllapsedTime: 5.1 seconds RetCode: 0 Status: OK